BEGIN:VCALENDAR
VERSION:2.0
PRODID:-//Plone.org//NONSGML plone.app.event//EN
X-WR-TIMEZONE:Europe/Madrid
BEGIN:VEVENT
SUMMARY:Concert de Nadal 2018
DTSTART;TZID=Europe/Madrid:20181220T141500
DTSTAMP:20260421T112951Z
UID:6a6020bf56a2470faccf19e314e33dbc@www.pmt.es
CREATED:20181218T111312Z
LAST-MODIFIED:20181218T111817Z
LOCATION:Sala de Graus ESAB
URL:https://pmt.es/ca/esdeveniments/concert-de-nadal-2018
END:VEVENT
BEGIN:VTIMEZONE
TZID:Europe/Madrid
X-LIC-LOCATION:Europe/Madrid
BEGIN:STANDARD
DTSTART:20181028T020000
TZNAME:CET
TZOFFSETFROM:+0200
TZOFFSETTO:+0100
END:STANDARD
END:VTIMEZONE
END:VCALENDAR
