BEGIN:VCALENDAR
VERSION:2.0
PRODID:-//Plone.org//NONSGML plone.app.event//EN
X-WR-TIMEZONE:Europe/Madrid
BEGIN:VEVENT
SUMMARY:Dia Internacional de la Dona 2020: Xerrada presentació conclusion
 s Congrès de les Dones del Baix Llobregat
DTSTART;TZID=Europe/Madrid:20200304T113000
DTEND;TZID=Europe/Madrid:20200304T123000
DTSTAMP:20260421T104500Z
UID:45441e31cad84ab6b8f57520d6590aca@pmt.es
CREATED:20200304T074649Z
LAST-MODIFIED:20200304T074702Z
LOCATION:Escales davant del bar
URL:https://pmt.es/ca/esdeveniments/dia-internacional-de-la-dona-2020-xerr
 ada-presentacio-conclusions-congres-de-les-dones-del-baix-llobregat
END:VEVENT
BEGIN:VTIMEZONE
TZID:Europe/Madrid
X-LIC-LOCATION:Europe/Madrid
BEGIN:STANDARD
DTSTART:20191027T020000
TZNAME:CET
TZOFFSETFROM:+0200
TZOFFSETTO:+0100
END:STANDARD
END:VTIMEZONE
END:VCALENDAR
