BEGIN:VCALENDAR
VERSION:2.0
PRODID:-//Plone.org//NONSGML plone.app.event//EN
X-WR-TIMEZONE:Europe/Madrid
BEGIN:VEVENT
SUMMARY:Iniciatives en commemoració del Dia Internacional de la Dona 2019
DTSTART;TZID=Europe/Madrid:20190306T113000
DTEND;TZID=Europe/Madrid:20190306T123000
DTSTAMP:20260421T105801Z
UID:75d6da8f3fb64e63881e06dd40719592@pmt.es
CREATED:20190304T121536Z
LAST-MODIFIED:20190304T121546Z
URL:https://pmt.es/ca/esdeveniments/iniciatives-en-commemoracio-del-dia-in
 ternacional-de-la-dona-2019
END:VEVENT
BEGIN:VTIMEZONE
TZID:Europe/Madrid
X-LIC-LOCATION:Europe/Madrid
BEGIN:STANDARD
DTSTART:20181028T020000
TZNAME:CET
TZOFFSETFROM:+0200
TZOFFSETTO:+0100
END:STANDARD
END:VTIMEZONE
END:VCALENDAR
