BEGIN:VCALENDAR
VERSION:2.0
PRODID:-//Plone.org//NONSGML plone.app.event//EN
X-WR-TIMEZONE:Europe/Madrid
BEGIN:VEVENT
SUMMARY:IOGA (anul·lat)
DTSTART;TZID=Europe/Madrid:20200204T140000
DTEND;TZID=Europe/Madrid:20200204T150000
DTSTAMP:20260421T120416Z
UID:318df01f70f14baf83b59848ab9a281f@www.pmt.es
RRULE:FREQ=WEEKLY;UNTIL=20200526T000000;BYDAY=TU
CREATED:20200221T111120Z
LAST-MODIFIED:20200320T062406Z
URL:https://pmt.es/ca/esdeveniments/ioga
END:VEVENT
BEGIN:VTIMEZONE
TZID:Europe/Madrid
X-LIC-LOCATION:Europe/Madrid
BEGIN:STANDARD
DTSTART:20191027T020000
TZNAME:CET
TZOFFSETFROM:+0200
TZOFFSETTO:+0100
END:STANDARD
END:VTIMEZONE
END:VCALENDAR
