BEGIN:VCALENDAR
VERSION:2.0
PRODID:-//Plone.org//NONSGML plone.app.event//EN
X-WR-TIMEZONE:Europe/Madrid
BEGIN:VEVENT
SUMMARY:La publicació científica i l’Accés Obert
DTSTART;TZID=Europe/Madrid:20191025T110000
DTEND;TZID=Europe/Madrid:20191025T130000
DTSTAMP:20260421T120421Z
UID:3f901a864fca4bd38b28f5c67182fff9@pmt.es
CONTACT:https://bibliotecnica.upc.edu/bcbl/actualitat/setmana-de-l-acces-o
 bert-a-la-bcbl-21-27-d-octubre
CREATED:20191021T113834Z
DESCRIPTION:Conferències orientades a investigadors joves\, PDI i doctora
 nds.
LAST-MODIFIED:20191021T113841Z
LOCATION:Sala 028-2\, EETAC
URL:https://pmt.es/ca/esdeveniments/la-publicacio-cientifica-i-l2019acces-
 obert
END:VEVENT
BEGIN:VTIMEZONE
TZID:Europe/Madrid
X-LIC-LOCATION:Europe/Madrid
BEGIN:DAYLIGHT
DTSTART:20190331T030000
TZNAME:CEST
TZOFFSETFROM:+0100
TZOFFSETTO:+0200
END:DAYLIGHT
END:VTIMEZONE
END:VCALENDAR
