BEGIN:VCALENDAR
VERSION:2.0
PRODID:-//Plone.org//NONSGML plone.app.event//EN
X-WR-TIMEZONE:Europe/Madrid
BEGIN:VEVENT
SUMMARY:PASTISSADA GRILLATS DEL CBL
DTSTART;TZID=Europe/Madrid:20191009T110000
DTEND;TZID=Europe/Madrid:20191009T130000
DTSTAMP:20260421T145159Z
UID:e31b7cacfb134c03ab42198bafe72ba3@pmt.es
CREATED:20191008T102334Z
DESCRIPTION:Esmorzar temàtic organitzat per la colla castellera Grillats 
 del CBL per als estudiants\, professors i treballadors del campus\, aprofi
 tant l'hora\ncultural.
LAST-MODIFIED:20191008T102432Z
LOCATION:Davant la cistella de bàsquet
URL:https://pmt.es/ca/esdeveniments/pastissada-grillats-del-cbl
END:VEVENT
BEGIN:VTIMEZONE
TZID:Europe/Madrid
X-LIC-LOCATION:Europe/Madrid
BEGIN:DAYLIGHT
DTSTART:20190331T030000
TZNAME:CEST
TZOFFSETFROM:+0100
TZOFFSETTO:+0200
END:DAYLIGHT
END:VTIMEZONE
END:VCALENDAR
