BEGIN:VCALENDAR
VERSION:2.0
PRODID:-//Plone.org//NONSGML plone.app.event//EN
X-WR-TIMEZONE:Europe/Madrid
BEGIN:VEVENT
SUMMARY:RDIT Talks. 'Vies d’accés al Talent Emprenedor'
DTSTART;TZID=Europe/Madrid:20190327T094500
DTEND;TZID=Europe/Madrid:20190327T120000
DTSTAMP:20260421T121044Z
UID:855cbe131c4a40c8b0a778d8c292e180@pmt.es
CREATED:20190315T105843Z
LAST-MODIFIED:20190315T110451Z
LOCATION:Sala de Reunions Edifici RDIT - 013
URL:https://pmt.es/ca/esdeveniments/rdit-talks-vies-d2019acces-al-talent-e
 mprenedor
END:VEVENT
BEGIN:VTIMEZONE
TZID:Europe/Madrid
X-LIC-LOCATION:Europe/Madrid
BEGIN:STANDARD
DTSTART:20181028T020000
TZNAME:CET
TZOFFSETFROM:+0200
TZOFFSETTO:+0100
END:STANDARD
END:VTIMEZONE
END:VCALENDAR
