BEGIN:VCALENDAR
VERSION:2.0
PRODID:-//Plone.org//NONSGML plone.app.event//EN
X-WR-TIMEZONE:Europe/Madrid
BEGIN:VEVENT
SUMMARY:TONIFICACIÓ FUNCIONAL (anul·lat)
DTSTART;TZID=Europe/Madrid:20200527T140000
DTEND;TZID=Europe/Madrid:20200527T150000
DTSTAMP:20260421T161050Z
UID:2ebe69b7f9d14b9e9d83ce65b1ec002f@pmt.es
CREATED:20200221T083653Z
DESCRIPTION:Dimecres\, de 14 a 15 h.\n\n\n\nPeríode: Q2 curs 2019-20: del
  05/02 al 27/05\n\nPreu UPC: 60 € tot el període.\n\nPreu no UPC: 75 
 € tot el període.\n\nInscripcions obertes on-line al final d'aquesta p
 àg.\n\nProfessora: Olga Santin
LAST-MODIFIED:20200320T062338Z
LOCATION:Sala 004\, Edifici D7
URL:https://pmt.es/ca/esdeveniments/tonificacio-funcional-1/2020-05-27
END:VEVENT
BEGIN:VTIMEZONE
TZID:Europe/Madrid
X-LIC-LOCATION:Europe/Madrid
BEGIN:DAYLIGHT
DTSTART:20200329T030000
TZNAME:CEST
TZOFFSETFROM:+0100
TZOFFSETTO:+0200
END:DAYLIGHT
END:VTIMEZONE
END:VCALENDAR
